BEGIN:VCALENDAR
VERSION:2.0
PRODID: -//CMS 5.0 //NONSGML //DE
BEGIN:VEVENT
SUMMARY:Gottesdienst zu Pfingsten mit Stammapostel Schneider aus Südafr
 ika
DESCRIPTION:Gottesdienst mit Stammapostel Jean-Luc Schneider aus Südafr
 ika. Die weltweite Übertragung beginnt um 10 Uhr.\n\nDie Christenheit 
 feiert das Pfingstfest zum Gedächtnis an den Tag, an dem der Heilige G
 eist von Gott auf die Gläubigen ausgegossen wurde. In den neuapostolis
 chen Gemeinden finden um 10 Uhr die Gottesdienste statt.\n\nPfingsten\n
 \nGott sendet seinen Geist. Pfingsten ist Aufbruch. Hinter den Jüngeri
 nnen und Jüngern Jesu liegt eine kräftezehrende Berg- und Talfahrt de
 r Gefühle: Ihr Meister wurde erst hingerichtet, erschien dann wieder, 
 um schließlich doch zu entschwinden. Aber jetzt kommt neues Leben in d
 ie aufgewühlte Schar – und das mit einem Paukenschlag: Es stürmt, e
 s braust vom Himmel, Flammen lodern auf, Feuerzungen setzen sich auf ih
 re Köpfe „und sie wurden alle erfüllt von dem Heiligen Geist“, er
 zählt es die biblische Apostelgeschichte. Das hat wundersame Folgen: A
 uf einmal können sie in fremden Sprachen predigen – ganz so, wie es 
 ihnen Jesu zuvor noch befohlen hatte. In alle Welt sollten sie gehen, u
 m zu lehren und zu taufen, hatte er ihnen mit auf den Weg gegeben. Das 
 noch kleine Christentum ist nun räumlich und kulturell entfesselt. Pfi
 ngsten gilt als Geburtsstunde der Kirche, die sich fortan in alle Welt 
 ausbreitet.\n\n\n\nhttps://vechelde.nak-nordost.de/db/523525
UID:523525@vechelde.nak-nordost.de
LOCATION:
CATEGORIES:Gottesdienst,Christlicher Feiertag
X-ORGANIZER:
STATUS:CONFIRMED
CLASS:PUBLIC
DTSTART:20260524T080000Z
DTEND:20260524T090000Z
DTSTAMP:20260420T162724Z
CREATED:20250722T092436Z
LAST-MODIFIED:20250722T092436Z
BEGIN:VALARM
UID:D03C42CE-3CD5-11F1-926F-4E245529324C
TRIGGER:-PT60M
ACTION:DISPLAY
DESCRIPTION:SUMMARY:Gottesdienst zu Pfingsten mit Stammapostel Schneider aus Südafr
 ika
END:VALARM
END:VEVENT
END:VCALENDAR
