BEGIN:VCALENDAR
VERSION:2.0
PRODID: -//CMS 5.0 //NONSGML //DE
BEGIN:VEVENT
SUMMARY:Gottesdienst mit dem Stammapostel aus der Gemeinde Stendal
DESCRIPTION:Gottesdienst mit dem Stammapostel aus der Gemeinde Stendal. 
 Die Übertragung beginnt um 10 Uhr und erfolgt in alle Gemeinden des Ar
 beitsbereichs des Bezirksapostels.\n\n\n\nhttps://vechelde.nak-nordost.
 de/db/524220
UID:524220@vechelde.nak-nordost.de
LOCATION:
CATEGORIES:Videogottesdienst,Gottesdienst
X-ORGANIZER:
STATUS:CONFIRMED
CLASS:PUBLIC
DTSTART:20260531T080000Z
DTEND:20260531T090000Z
DTSTAMP:20260420T162629Z
CREATED:20250722T102551Z
LAST-MODIFIED:20250722T102551Z
BEGIN:VALARM
UID:AF5F4510-3CD5-11F1-900F-32345529324C
TRIGGER:-PT60M
ACTION:DISPLAY
DESCRIPTION:SUMMARY:Gottesdienst mit dem Stammapostel aus der Gemeinde Stendal
END:VALARM
END:VEVENT
END:VCALENDAR
