BEGIN:VCALENDAR
VERSION:2.0
PRODID: -//CMS 5.0 //NONSGML //DE
BEGIN:VEVENT
SUMMARY:Gottesdienst zu Erntedank
DESCRIPTION:Der Herbst da, auf dem Land wird die Ernte eingebracht. Das 
 Erntedankfest ist weder ein gesetzlicher Feiertag, noch hat es einen Be
 zug zum Leben Jesu. Trotzdem hat es mindestens seit dem 3. Jahrhundert 
 einen festen Platz im Kirchenjahr. Der Blick richtet sich auf Gott als 
 Schöpfer. Ihm wird gedankt für alle Gaben – nicht nur für die, die
  auf dem Feld wachsen. Christinnen und Christen glauben, dass ihnen all
 es, was sie an Gaben und Fähigkeiten besitzen, von Gott geschenkt ist.
  Das heißt nicht, dass sie nicht auch auf eigene Erfolge und Leistunge
 n stolz sein können. Sie leben aber in dem Bewusstsein, dass ihnen der
  „Same“ dafür von Gott gegeben ist. Dass trotzdem noch immer Mensc
 hen auf der Welt in Armut leben, ist deshalb nicht Gottes Wille, sonder
 n menschliches Verschulden. Es mangelt Menschen nicht an Gaben, sondern
  am Willen, sie gerecht zu verteilen. So stellt der Erntedanktag auch j
 edem Einzelnen die Frage: Wie gehe ich verantwortungsbewusst mit empfan
 genen Gaben um? Wie kann ich\nmeinen Konsum gestalten, um mich möglich
 st nicht am Leben anderer schuldig zu machen? Traditionell wird in der 
 Neuapostolischen Kirche am Erntedanktag um eine besondere Spende gebete
 n, das sogenannte „Erntedankopfer“. Mitunter steht es auch unter ei
 nem speziellen Motto, wie etwa der Hilfe für Geflüchtete.\n\n\n\nhttp
 s://vechelde.nak-nordost.de/db/535986
UID:535986@vechelde.nak-nordost.de
LOCATION:
CATEGORIES:Christlicher Feiertag,Gottesdienst
X-ORGANIZER:
STATUS:CONFIRMED
CLASS:PUBLIC
DTSTART:20261004T080000Z
DTEND:20261004T090000Z
DTSTAMP:20260420T162628Z
CREATED:20250828T095833Z
LAST-MODIFIED:20250828T095833Z
BEGIN:VALARM
UID:AF2697E2-3CD5-11F1-BB58-C2005529324C
TRIGGER:-PT60M
ACTION:DISPLAY
DESCRIPTION:SUMMARY:Gottesdienst zu Erntedank
END:VALARM
END:VEVENT
END:VCALENDAR
